BEGIN:VCALENDAR
VERSION:2.0
PRODID:-//St. Clairsville Memorial Park - ECPv4.7.4//NONSGML v1.0//EN
CALSCALE:GREGORIAN
METHOD:PUBLISH
X-WR-CALNAME:St. Clairsville Memorial Park
X-ORIGINAL-URL:http://stclairsvillememorialpark.com
X-WR-CALDESC:Events for St. Clairsville Memorial Park
BEGIN:VEVENT
DTSTART;TZID=America/New_York:20190604T200000
DTEND;TZID=America/New_York:20190604T220000
DTSTAMP:20260419T145149
CREATED:20190211T143924Z
LAST-MODIFIED:20190211T143953Z
UID:1718-1559678400-1559685600@stclairsvillememorialpark.com
SUMMARY:Moonlight Swim
DESCRIPTION:Moonlight swim every Tuesday and Thursday (weather permitting). 8:00pm to 10:00pm.  Cost is $3.00 a person. \nPool passes may not be used for Moonlight swims. \n
URL:http://stclairsvillememorialpark.com/event/moonlight-swim/
LOCATION:Allen Pool\, 200 Walnut Ave\, St. Clairsville\, OH\, 43950
CATEGORIES:Moonlight Swim
ATTACH;FMTTYPE=image/jpeg:http://stclairsvillememorialpark.com/wp-content/uploads/2018/12/IMG_5625.jpg
END:VEVENT
END:VCALENDAR